BEGIN:VCALENDAR
VERSION:2.0
PRODID:spatie/icalendar-generator
DESCRIPTION:Events from Pauntley Village Hall
X-WR-CALDESC:Events from Pauntley Village Hall
REFRESH-INTERVAL;VALUE=DURATION:PT1440M
X-PUBLISHED-TTL:PT1440M
BEGIN:VTIMEZONE
TZID:Europe/Dublin
BEGIN:DAYLIGHT
DTSTART:20251026T020000Z
TZOFFSETFROM:+0100
TZOFFSETTO:+0000
END:DAYLIGHT
BEGIN:STANDARD
DTSTART:20260329T010000Z
TZOFFSETFROM:+0000
TZOFFSETTO:+0100
END:STANDARD
END:VTIMEZONE
BEGIN:VTIMEZONE
TZID:UTC
BEGIN:STANDARD
DTSTART:20250724T061558Z
TZOFFSETFROM:+0000
TZOFFSETTO:+0000
END:STANDARD
END:VTIMEZONE
BEGIN:VEVENT
UID:5-3
DTSTAMP:20260420T061558Z
SUMMARY:Six Nations Rugby - England vs. Wales
LOCATION:Pauntley Village Hall  Brand Green   Nr. Newent  Gloucestershire G
 L19 3JD
ORGANIZER;CN=Andrew Stewart:MAILTO:andrew@catalystweb.net
DTSTART;TZID=Europe/Dublin:20260207T160000
DTEND;TZID=Europe/Dublin:20260207T183000
X-ALT-DESC;FMTTYPE=TEXT/HTML:Join us for big-screen\, Six Nations action - 
 Free Entry! Hot and cold drinks and party pies will be available - any and
  all donations will be gratefully received. Saturday 7th February.  Engla
 nd vs. Wales. Doors Open 4.00 p.m. KO 4.40 p.m &amp;nbsp\; &amp;nbsp\;
CATEGORIES:Sports Screenings
URL;VALUE=URI:https://pauntley.org.uk/mc-events/six-nations-rugby-england-v
 s-wales/
METHOD:PUBLISH
END:VEVENT
END:VCALENDAR