BEGIN:VCALENDAR
VERSION:2.0
PRODID:spatie/icalendar-generator
DESCRIPTION:Events from Pauntley Village Hall
X-WR-CALDESC:Events from Pauntley Village Hall
REFRESH-INTERVAL;VALUE=DURATION:PT1440M
X-PUBLISHED-TTL:PT1440M
BEGIN:VTIMEZONE
TZID:Europe/Dublin
BEGIN:DAYLIGHT
DTSTART:20251026T020000Z
TZOFFSETFROM:+0100
TZOFFSETTO:+0000
END:DAYLIGHT
BEGIN:STANDARD
DTSTART:20260329T010000Z
TZOFFSETFROM:+0000
TZOFFSETTO:+0100
END:STANDARD
BEGIN:DAYLIGHT
DTSTART:20261025T020000Z
TZOFFSETFROM:+0100
TZOFFSETTO:+0000
END:DAYLIGHT
END:VTIMEZONE
BEGIN:VTIMEZONE
TZID:UTC
BEGIN:STANDARD
DTSTART:20250727T061334Z
TZOFFSETFROM:+0000
TZOFFSETTO:+0000
END:STANDARD
END:VTIMEZONE
BEGIN:VEVENT
UID:188-29
DTSTAMP:20260423T061334Z
SUMMARY:Private party
LOCATION:
ORGANIZER;CN=Rachel G:MAILTO:rachelg1963@hotmail.co.uk
DTSTART;TZID=Europe/Dublin:20260523T140000
DTEND;TZID=Europe/Dublin:20260523T180000
X-ALT-DESC;FMTTYPE=TEXT/HTML:<p>70 Wedding Anniversary party</p>\n
CATEGORIES:Coffee Mornings
URL;VALUE=URI:https://pauntley.org.uk/mc-events/private-party/
METHOD:PUBLISH
END:VEVENT
END:VCALENDAR