BEGIN:VCALENDAR
VERSION:2.0
PRODID:spatie/icalendar-generator
DESCRIPTION:Events from Pauntley Village Hall
X-WR-CALDESC:Events from Pauntley Village Hall
REFRESH-INTERVAL;VALUE=DURATION:PT1440M
X-PUBLISHED-TTL:PT1440M
BEGIN:VTIMEZONE
TZID:Europe/Dublin
BEGIN:DAYLIGHT
DTSTART:20251026T020000Z
TZOFFSETFROM:+0100
TZOFFSETTO:+0000
END:DAYLIGHT
BEGIN:STANDARD
DTSTART:20260329T010000Z
TZOFFSETFROM:+0000
TZOFFSETTO:+0100
END:STANDARD
BEGIN:DAYLIGHT
DTSTART:20261025T020000Z
TZOFFSETFROM:+0100
TZOFFSETTO:+0000
END:DAYLIGHT
END:VTIMEZONE
BEGIN:VTIMEZONE
TZID:UTC
BEGIN:STANDARD
DTSTART:20250726T192438Z
TZOFFSETFROM:+0000
TZOFFSETTO:+0000
END:STANDARD
END:VTIMEZONE
BEGIN:VEVENT
UID:185-26
DTSTAMP:20260422T192438Z
SUMMARY:Ledbury puppy school
LOCATION:
ORGANIZER;CN=Rachel G:MAILTO:rachelg1963@hotmail.co.uk
DTSTART;TZID=Europe/Dublin:20260514T104500
DTEND;TZID=Europe/Dublin:20260514T114500
X-ALT-DESC;FMTTYPE=TEXT/HTML:
CATEGORIES:Coffee Mornings
URL;VALUE=URI:https://pauntley.org.uk/mc-events/ledbury-puppy-school-2/
METHOD:PUBLISH
END:VEVENT
END:VCALENDAR