BEGIN:VCALENDAR
VERSION:2.0
PRODID:spatie/icalendar-generator
DESCRIPTION:Events from Pauntley Village Hall
X-WR-CALDESC:Events from Pauntley Village Hall
REFRESH-INTERVAL;VALUE=DURATION:PT1440M
X-PUBLISHED-TTL:PT1440M
BEGIN:VTIMEZONE
TZID:Europe/Dublin
BEGIN:DAYLIGHT
DTSTART:20251026T020000Z
TZOFFSETFROM:+0100
TZOFFSETTO:+0000
END:DAYLIGHT
BEGIN:STANDARD
DTSTART:20260329T010000Z
TZOFFSETFROM:+0000
TZOFFSETTO:+0100
END:STANDARD
END:VTIMEZONE
BEGIN:VTIMEZONE
TZID:UTC
BEGIN:STANDARD
DTSTART:20250724T061747Z
TZOFFSETFROM:+0000
TZOFFSETTO:+0000
END:STANDARD
END:VTIMEZONE
BEGIN:VEVENT
UID:175-18
DTSTAMP:20260420T061747Z
SUMMARY:Rangers
LOCATION:
ORGANIZER;CN=Rachel G:MAILTO:rachelg1963@hotmail.co.uk
DTSTART;TZID=Europe/Dublin;VALUE=DATE:20260313
DTEND;TZID=Europe/Dublin;VALUE=DATE:20260314
X-ALT-DESC;FMTTYPE=TEXT/HTML:<p>Contact:-      ranger.advisor@girlguidinggl
 os.org       For further information if required</p>\n
CATEGORIES:Coffee Mornings,  Rangers
URL;VALUE=URI:https://pauntley.org.uk/mc-events/rangers/
METHOD:PUBLISH
END:VEVENT
END:VCALENDAR