BEGIN:VCALENDAR
VERSION:2.0
PRODID:spatie/icalendar-generator
DESCRIPTION:Events from Pauntley Village Hall
X-WR-CALDESC:Events from Pauntley Village Hall
REFRESH-INTERVAL;VALUE=DURATION:PT1440M
X-PUBLISHED-TTL:PT1440M
BEGIN:VTIMEZONE
TZID:Europe/Dublin
BEGIN:DAYLIGHT
DTSTART:20251026T020000Z
TZOFFSETFROM:+0100
TZOFFSETTO:+0000
END:DAYLIGHT
BEGIN:STANDARD
DTSTART:20260329T010000Z
TZOFFSETFROM:+0000
TZOFFSETTO:+0100
END:STANDARD
END:VTIMEZONE
BEGIN:VTIMEZONE
TZID:UTC
BEGIN:STANDARD
DTSTART:20250724T034628Z
TZOFFSETFROM:+0000
TZOFFSETTO:+0000
END:STANDARD
END:VTIMEZONE
BEGIN:VEVENT
UID:125-6
DTSTAMP:20260420T034628Z
SUMMARY:The Pauntley PUP (Pop-Up Pub)
LOCATION:Pauntley Village Hall  Brand Green   Nr. Newent  Gloucestershire G
 L19 3JD
ORGANIZER;CN=Andrew Stewart:MAILTO:andrew@catalystweb.net
DTSTART;TZID=Europe/Dublin:20260411T150000
DTEND;TZID=Europe/Dublin:20260411T220000
X-ALT-DESC;FMTTYPE=TEXT/HTML:Our first Pop-up Pub of the year. Free Entry! 
 Celebrate the end of school holidays with our full bar\, food truck\, acti
 vities for young and old. We'll also be screening the Grand National on th
 e big screen at 4pm. Try your luck with the Mega sweepstake!
CATEGORIES:Pauntley PUP
URL;VALUE=URI:https://pauntley.org.uk/mc-events/the-pauntley-pup-pop-up-pub
 /
METHOD:PUBLISH
END:VEVENT
END:VCALENDAR