BEGIN:VCALENDAR
VERSION:2.0
PRODID:spatie/icalendar-generator
DESCRIPTION:Events from Pauntley Village Hall
X-WR-CALDESC:Events from Pauntley Village Hall
REFRESH-INTERVAL;VALUE=DURATION:PT1440M
X-PUBLISHED-TTL:PT1440M
BEGIN:VTIMEZONE
TZID:Europe/Dublin
BEGIN:DAYLIGHT
DTSTART:20251026T020000Z
TZOFFSETFROM:+0100
TZOFFSETTO:+0000
END:DAYLIGHT
BEGIN:STANDARD
DTSTART:20260329T010000Z
TZOFFSETFROM:+0000
TZOFFSETTO:+0100
END:STANDARD
END:VTIMEZONE
BEGIN:VTIMEZONE
TZID:UTC
BEGIN:STANDARD
DTSTART:20250724T061700Z
TZOFFSETFROM:+0000
TZOFFSETTO:+0000
END:STANDARD
END:VTIMEZONE
BEGIN:VEVENT
UID:10-8
DTSTAMP:20260420T061700Z
SUMMARY:Pauntley Movie Night - Knives Out
LOCATION:Pauntley Village Hall  Brand Green   Nr. Newent  Gloucestershire G
 L19 3JD
ORGANIZER;CN=Andrew Stewart:MAILTO:andrew@catalystweb.net
DTSTART;TZID=Europe/Dublin:20260228T190000
DTEND;TZID=Europe/Dublin:20260228T220000
X-ALT-DESC;FMTTYPE=TEXT/HTML:Watch this terrific whodunnit on the big scree
 n. Doors open 7pm for a 7.30pm start Tickets £6.50\, includes bottomless 
 tea &amp;amp\; coffee Cakes £1.50 and freshly-made Popcorn 50p a bag
CATEGORIES:Movie Night
URL;VALUE=URI:https://pauntley.org.uk/mc-events/pauntley-movie-night-knives
 -out/
METHOD:PUBLISH
END:VEVENT
END:VCALENDAR