BEGIN:VCALENDAR
VERSION:2.0
PRODID:spatie/icalendar-generator
DESCRIPTION:Events from Pauntley Village Hall
X-WR-CALDESC:Events from Pauntley Village Hall
REFRESH-INTERVAL;VALUE=DURATION:PT1440M
X-PUBLISHED-TTL:PT1440M
BEGIN:VTIMEZONE
TZID:Europe/Dublin
BEGIN:DAYLIGHT
DTSTART:20251026T020000Z
TZOFFSETFROM:+0100
TZOFFSETTO:+0000
END:DAYLIGHT
BEGIN:STANDARD
DTSTART:20260329T010000Z
TZOFFSETFROM:+0000
TZOFFSETTO:+0100
END:STANDARD
END:VTIMEZONE
BEGIN:VTIMEZONE
TZID:UTC
BEGIN:STANDARD
DTSTART:20250724T035002Z
TZOFFSETFROM:+0000
TZOFFSETTO:+0000
END:STANDARD
END:VTIMEZONE
BEGIN:VEVENT
UID:82-14
DTSTAMP:20260420T035002Z
SUMMARY:Coffee Morning - All Welcome!
LOCATION:Pauntley Village Hall  Brand Green   Nr. Newent  Gloucestershire G
 L19 3JD
ORGANIZER;CN=Andrew Stewart:MAILTO:andrew@catalystweb.net
RRULE:FREQ=WEEKLY;UNTIL=20261218T000000Z
DTSTART;TZID=Europe/Dublin:20260410T100000
DTEND;TZID=Europe/Dublin:20260410T120000
X-ALT-DESC;FMTTYPE=TEXT/HTML:Coffee\, tea\, bikkies....and good company😊
  £2 for bottomless cup
CATEGORIES:Coffee Mornings
URL;VALUE=URI:https://pauntley.org.uk/mc-events/coffee-morning-all-welcome/
 ?mc_id=82
METHOD:PUBLISH
END:VEVENT
END:VCALENDAR