BEGIN:VCALENDAR
VERSION:2.0
PRODID:spatie/icalendar-generator
DESCRIPTION:Events from Pauntley Village Hall
X-WR-CALDESC:Events from Pauntley Village Hall
REFRESH-INTERVAL;VALUE=DURATION:PT1440M
X-PUBLISHED-TTL:PT1440M
BEGIN:VTIMEZONE
TZID:Europe/Dublin
BEGIN:DAYLIGHT
DTSTART:20251026T020000Z
TZOFFSETFROM:+0100
TZOFFSETTO:+0000
END:DAYLIGHT
BEGIN:STANDARD
DTSTART:20260329T010000Z
TZOFFSETFROM:+0000
TZOFFSETTO:+0100
END:STANDARD
END:VTIMEZONE
BEGIN:VTIMEZONE
TZID:UTC
BEGIN:STANDARD
DTSTART:20250724T054658Z
TZOFFSETFROM:+0000
TZOFFSETTO:+0000
END:STANDARD
END:VTIMEZONE
BEGIN:VEVENT
UID:77-13
DTSTAMP:20260420T054658Z
SUMMARY:Film Evening - The Choral (15) 7.00pm to 7.30pm
LOCATION:Pauntley Village Hall  Brand Green   Nr. Newent  Gloucestershire G
 L19 3JD
ORGANIZER;CN=Andrew Stewart:MAILTO:andrew@catalystweb.net
DTSTART;TZID=Europe/Dublin:20260418T190000
DTEND;TZID=Europe/Dublin:20260418T223000
X-ALT-DESC;FMTTYPE=TEXT/HTML:1916. As war rages on the Western Front\, the 
 Choral Society in Ramsden\, Yorkshire has lost most of its men to the army
 . The Choral’s ambitious committee\, determined to press ahead\, decides
  to recruit local young males to swell their ranks. They must also engage 
 a new chorus master\, and despite their suspicions that he&amp;hellip\;
CATEGORIES:Movie Night
URL;VALUE=URI:https://pauntley.org.uk/mc-events/film-evening-the-choral-15-
 7-00pm-to-7-30pm/
METHOD:PUBLISH
END:VEVENT
END:VCALENDAR