BEGIN:VCALENDAR
VERSION:2.0
PRODID:spatie/icalendar-generator
DESCRIPTION:Events from Pauntley Village Hall
X-WR-CALDESC:Events from Pauntley Village Hall
REFRESH-INTERVAL;VALUE=DURATION:PT1440M
X-PUBLISHED-TTL:PT1440M
BEGIN:VTIMEZONE
TZID:Europe/Dublin
BEGIN:DAYLIGHT
DTSTART:20251026T020000Z
TZOFFSETFROM:+0100
TZOFFSETTO:+0000
END:DAYLIGHT
BEGIN:STANDARD
DTSTART:20260329T010000Z
TZOFFSETFROM:+0000
TZOFFSETTO:+0100
END:STANDARD
END:VTIMEZONE
BEGIN:VTIMEZONE
TZID:UTC
BEGIN:STANDARD
DTSTART:20250724T073446Z
TZOFFSETFROM:+0000
TZOFFSETTO:+0000
END:STANDARD
END:VTIMEZONE
BEGIN:VEVENT
UID:7-5
DTSTAMP:20260420T073446Z
SUMMARY:Six Nations Rugby - England vs. Ireland
LOCATION:Pauntley Village Hall  Brand Green   Nr. Newent  Gloucestershire G
 L19 3JD
ORGANIZER;CN=Andrew Stewart:MAILTO:andrew@catalystweb.net
DTSTART;TZID=Europe/Dublin:20260221T133000
DTEND;TZID=Europe/Dublin:20260221T163000
X-ALT-DESC;FMTTYPE=TEXT/HTML:Join us for big screen Six Nations Rugby actio
 n. Free Entry! Drinks and hot snacks available - any and all donations are
  welcome. Doors open 1.30pm for 2.10pm kick off
CATEGORIES:Sports Screenings
URL;VALUE=URI:https://pauntley.org.uk/mc-events/six-nations-rugby-england-v
 s-ireland/
METHOD:PUBLISH
END:VEVENT
END:VCALENDAR