BEGIN:VCALENDAR
VERSION:2.0
PRODID:spatie/icalendar-generator
DESCRIPTION:Events from Pauntley Village Hall
X-WR-CALDESC:Events from Pauntley Village Hall
REFRESH-INTERVAL;VALUE=DURATION:PT1440M
X-PUBLISHED-TTL:PT1440M
BEGIN:VTIMEZONE
TZID:Europe/Dublin
BEGIN:DAYLIGHT
DTSTART:20251026T020000Z
TZOFFSETFROM:+0100
TZOFFSETTO:+0000
END:DAYLIGHT
BEGIN:STANDARD
DTSTART:20260329T010000Z
TZOFFSETFROM:+0000
TZOFFSETTO:+0100
END:STANDARD
END:VTIMEZONE
BEGIN:VTIMEZONE
TZID:UTC
BEGIN:STANDARD
DTSTART:20250724T035018Z
TZOFFSETFROM:+0000
TZOFFSETTO:+0000
END:STANDARD
END:VTIMEZONE
BEGIN:VEVENT
UID:67-11
DTSTAMP:20260420T035018Z
SUMMARY:Keep Fit
LOCATION:Pauntley Village Hall  Brand Green   Nr. Newent  Gloucestershire G
 L19 3JD
ORGANIZER;CN=Andrew Stewart:MAILTO:andrew@catalystweb.net
RRULE:FREQ=WEEKLY;UNTIL=20260604T000000Z
DTSTART;TZID=Europe/Dublin:20260402T093000
DTEND;TZID=Europe/Dublin:20260402T103000
X-ALT-DESC;FMTTYPE=TEXT/HTML:Active\, chair-based exercise and stretching. 
 Everyone Welcome. £6 for the hour
CATEGORIES:General
URL;VALUE=URI:https://pauntley.org.uk/mc-events/keep-fit/?mc_id=67
METHOD:PUBLISH
END:VEVENT
END:VCALENDAR