BEGIN:VCALENDAR
VERSION:2.0
PRODID:spatie/icalendar-generator
DESCRIPTION:Events from Pauntley Village Hall
X-WR-CALDESC:Events from Pauntley Village Hall
REFRESH-INTERVAL;VALUE=DURATION:PT1440M
X-PUBLISHED-TTL:PT1440M
BEGIN:VTIMEZONE
TZID:Europe/Dublin
BEGIN:DAYLIGHT
DTSTART:20251026T020000Z
TZOFFSETFROM:+0100
TZOFFSETTO:+0000
END:DAYLIGHT
BEGIN:STANDARD
DTSTART:20260329T010000Z
TZOFFSETFROM:+0000
TZOFFSETTO:+0100
END:STANDARD
END:VTIMEZONE
BEGIN:VTIMEZONE
TZID:UTC
BEGIN:STANDARD
DTSTART:20250724T072949Z
TZOFFSETFROM:+0000
TZOFFSETTO:+0000
END:STANDARD
END:VTIMEZONE
BEGIN:VEVENT
UID:6-4
DTSTAMP:20260420T072949Z
SUMMARY:Burns Night
LOCATION:Pauntley Village Hall  Brand Green   Nr. Newent  Gloucestershire G
 L19 3JD
ORGANIZER;CN=Andrew Stewart:MAILTO:andrew@catalystweb.net
DTSTART;TZID=Europe/Dublin:20260125T190000
DTEND;TZID=Europe/Dublin:20260125T220000
X-ALT-DESC;FMTTYPE=TEXT/HTML:A Scottish celebration of the bard. Traditiona
 l music\, songs\, dinner\, and dancing 💃 [gallery ids=\"100\,101\,102\"
 ]
CATEGORIES:Theme Nights
URL;VALUE=URI:https://pauntley.org.uk/mc-events/burns-night/
METHOD:PUBLISH
END:VEVENT
END:VCALENDAR