BEGIN:VCALENDAR
VERSION:2.0
PRODID:spatie/icalendar-generator
DESCRIPTION:Events from Pauntley Village Hall
X-WR-CALDESC:Events from Pauntley Village Hall
REFRESH-INTERVAL;VALUE=DURATION:PT1440M
X-PUBLISHED-TTL:PT1440M
BEGIN:VTIMEZONE
TZID:Europe/Dublin
BEGIN:DAYLIGHT
DTSTART:20251026T020000Z
TZOFFSETFROM:+0100
TZOFFSETTO:+0000
END:DAYLIGHT
BEGIN:STANDARD
DTSTART:20260329T010000Z
TZOFFSETFROM:+0000
TZOFFSETTO:+0100
END:STANDARD
END:VTIMEZONE
BEGIN:VTIMEZONE
TZID:UTC
BEGIN:STANDARD
DTSTART:20250724T041255Z
TZOFFSETFROM:+0000
TZOFFSETTO:+0000
END:STANDARD
END:VTIMEZONE
BEGIN:VEVENT
UID:168-17
DTSTAMP:20260420T041255Z
SUMMARY:Ledbury puppy school
LOCATION:Pauntley Village Hall  Brand Green   Nr. Newent  Gloucestershire G
 L19 3JD
ORGANIZER;CN=Rachel G:MAILTO:rachelg1963@hotmail.co.uk
RRULE:FREQ=WEEKLY;UNTIL=20260514T000000Z
DTSTART;TZID=Europe/Dublin:20260416T104500
DTEND;TZID=Europe/Dublin:20260416T130000
X-ALT-DESC;FMTTYPE=TEXT/HTML:
CATEGORIES:Coffee Mornings
URL;VALUE=URI:https://pauntley.org.uk/mc-events/ledbury-puppy-school/?mc_id
 =168
METHOD:PUBLISH
END:VEVENT
END:VCALENDAR